BEGIN:VCALENDAR
VERSION:2.0
PRODID:-//Grace Chapel Pickwick - ECPv5.16.4//NONSGML v1.0//EN
CALSCALE:GREGORIAN
METHOD:PUBLISH
X-ORIGINAL-URL:http://gracechapelpickwick.com
X-WR-CALDESC:Events for Grace Chapel Pickwick
REFRESH-INTERVAL;VALUE=DURATION:PT1H
X-Robots-Tag:noindex
X-PUBLISHED-TTL:PT1H
BEGIN:VTIMEZONE
TZID:America/Chicago
BEGIN:DAYLIGHT
TZOFFSETFROM:-0600
TZOFFSETTO:-0500
TZNAME:CDT
DTSTART:20240310T080000
END:DAYLIGHT
BEGIN:STANDARD
TZOFFSETFROM:-0500
TZOFFSETTO:-0600
TZNAME:CST
DTSTART:20241103T070000
END:STANDARD
BEGIN:DAYLIGHT
TZOFFSETFROM:-0600
TZOFFSETTO:-0500
TZNAME:CDT
DTSTART:20250309T080000
END:DAYLIGHT
BEGIN:STANDARD
TZOFFSETFROM:-0500
TZOFFSETTO:-0600
TZNAME:CST
DTSTART:20251102T070000
END:STANDARD
BEGIN:DAYLIGHT
TZOFFSETFROM:-0600
TZOFFSETTO:-0500
TZNAME:CDT
DTSTART:20260308T080000
END:DAYLIGHT
BEGIN:STANDARD
TZOFFSETFROM:-0500
TZOFFSETTO:-0600
TZNAME:CST
DTSTART:20261101T070000
END:STANDARD
END:VTIMEZONE
BEGIN:VEVENT
DTSTART;TZID=America/Chicago:20241110T120000
DTEND;TZID=America/Chicago:20241110T140000
DTSTAMP:20260421T095530
CREATED:20240901T025056Z
LAST-MODIFIED:20240901T025056Z
UID:7982-1731240000-1731247200@gracechapelpickwick.com
SUMMARY:Grace Chapel Harvest Picnic
DESCRIPTION:More information coming soon!
URL:http://gracechapelpickwick.com/event/grace-chapel-harvest-picnic
LOCATION:The Lodge House\, 1325 YMCA Lane\, Counce\, TN\, 38326\, United States
CATEGORIES:Community
END:VEVENT
BEGIN:VEVENT
DTSTART;TZID=America/Chicago:20241201T100000
DTEND;TZID=America/Chicago:20241201T110000
DTSTAMP:20260421T095530
CREATED:20241201T075459Z
LAST-MODIFIED:20241201T075459Z
UID:8286-1733047200-1733050800@gracechapelpickwick.com
SUMMARY:Sunday Worship and the Word - Angel Tree Ministry
DESCRIPTION:Rita Maxedon will be here to share about our community’s Angel Tree ministry. \nPray and plan ahead for how you can be part of this special time to help area children with clothes and toys and their families with food baskets.
URL:http://gracechapelpickwick.com/event/sunday-worship-and-the-word-angel-tree-ministry
LOCATION:Freddy T’s\, 12750 Hwy 57\, Counce\, TN\, 38326\, United States
CATEGORIES:Bible Study,Community,Worship
END:VEVENT
BEGIN:VEVENT
DTSTART;TZID=America/Chicago:20241204T090000
DTEND;TZID=America/Chicago:20241204T110000
DTSTAMP:20260421T095530
CREATED:20241201T075610Z
LAST-MODIFIED:20241201T075610Z
UID:8288-1733302800-1733310000@gracechapelpickwick.com
SUMMARY:Prayer Breakfast @ the Outpost Savannah
DESCRIPTION:Leader: Ray Puckett
URL:http://gracechapelpickwick.com/event/prayer-breakfast-the-outpost-savannah-2
CATEGORIES:Bible Study,Community,Corporate Prayer
END:VEVENT
BEGIN:VEVENT
DTSTART;TZID=America/Chicago:20241221T170000
DTEND;TZID=America/Chicago:20241221T173000
DTSTAMP:20260421T095530
CREATED:20241112T204519Z
LAST-MODIFIED:20241217T033524Z
UID:8243-1734800400-1734802200@gracechapelpickwick.com
SUMMARY:Community Christmas Meal and Service
DESCRIPTION:
URL:http://gracechapelpickwick.com/event/community-christmas-meal-and-service
LOCATION:Freddy T’s\, 12750 Hwy 57\, Counce\, TN\, 38326\, United States
CATEGORIES:Community,Worship
END:VEVENT
BEGIN:VEVENT
DTSTART;TZID=America/Chicago:20250105T180000
DTEND;TZID=America/Chicago:20250105T180000
DTSTAMP:20260421T095530
CREATED:20250105T041952Z
LAST-MODIFIED:20250105T041952Z
UID:8354-1736100000-1736100000@gracechapelpickwick.com
SUMMARY:Sunday Bible Study @ Nuevo Vallarta
DESCRIPTION:
URL:http://gracechapelpickwick.com/event/sunday-bible-study-nuevo-vallarta-8
CATEGORIES:Bible Study,Community
END:VEVENT
BEGIN:VEVENT
DTSTART;TZID=America/Chicago:20250205T090000
DTEND;TZID=America/Chicago:20250205T100000
DTSTAMP:20260421T095530
CREATED:20250131T125131Z
LAST-MODIFIED:20250131T125131Z
UID:8551-1738746000-1738749600@gracechapelpickwick.com
SUMMARY:Prayer Breakfast @ The Outpost
DESCRIPTION:
URL:http://gracechapelpickwick.com/event/prayer-breakfast-the-outpost-10
CATEGORIES:Bible Study,Community,Corporate Prayer
END:VEVENT
BEGIN:VEVENT
DTSTART;TZID=America/Chicago:20250213T180000
DTEND;TZID=America/Chicago:20250213T180000
DTSTAMP:20260421T095530
CREATED:20250131T124848Z
LAST-MODIFIED:20250131T124848Z
UID:8547-1739469600-1739469600@gracechapelpickwick.com
SUMMARY:Galentine's Party @ Crosswind\, Corinth\, MS
DESCRIPTION:
URL:http://gracechapelpickwick.com/event/galentines-party-crosswind-corinth-ms
CATEGORIES:Community
END:VEVENT
BEGIN:VEVENT
DTSTART;TZID=America/Chicago:20250214T180000
DTEND;TZID=America/Chicago:20250214T180000
DTSTAMP:20260421T095530
CREATED:20250131T124939Z
LAST-MODIFIED:20250131T124939Z
UID:8549-1739556000-1739556000@gracechapelpickwick.com
SUMMARY:Valentine's Couples Banquet "God Gave Me You"
DESCRIPTION:
URL:http://gracechapelpickwick.com/event/valentines-couples-banquet-god-gave-me-you
CATEGORIES:Community
END:VEVENT
BEGIN:VEVENT
DTSTART;TZID=America/Chicago:20250810T113000
DTEND;TZID=America/Chicago:20250810T133000
DTSTAMP:20260421T095530
CREATED:20250801T025438Z
LAST-MODIFIED:20250801T025438Z
UID:9249-1754825400-1754832600@gracechapelpickwick.com
SUMMARY:Summer Picnic @ the Lodge House
DESCRIPTION:Join us for a Summer picnic at the Lodge House following Sunday worship! \nEveryone is welcome! \nThe Lodge House \n1325 YMCA Lane\, Counce\, TN 38326 \n 
URL:http://gracechapelpickwick.com/event/summer-picnic-the-lodge-house
CATEGORIES:Community
END:VEVENT
BEGIN:VEVENT
DTSTART;TZID=America/Chicago:20250921T113000
DTEND;TZID=America/Chicago:20250921T133000
DTSTAMP:20260421T095530
CREATED:20250901T152546Z
LAST-MODIFIED:20250913T143725Z
UID:9406-1758454200-1758461400@gracechapelpickwick.com
SUMMARY:Grace Chapel Fish Fry
DESCRIPTION:
URL:http://gracechapelpickwick.com/event/grace-chapel-fish-fry
CATEGORIES:Community
ATTACH;FMTTYPE=image/png:http://gracechapelpickwick.com/wp-content/uploads/2025/09/mark-your-calendar-upcoming-3.png
END:VEVENT
BEGIN:VEVENT
DTSTART;TZID=America/Chicago:20251207T100000
DTEND;TZID=America/Chicago:20251207T110000
DTSTAMP:20260421T095530
CREATED:20251129T210803Z
LAST-MODIFIED:20251204T140311Z
UID:9642-1765101600-1765105200@gracechapelpickwick.com
SUMMARY:Sunday Worship & the Word
DESCRIPTION:
URL:http://gracechapelpickwick.com/event/sunday-worship-the-word-206
CATEGORIES:Community,Worship
ATTACH;FMTTYPE=image/png:http://gracechapelpickwick.com/wp-content/uploads/2025/12/sunday-worship-gc.png
END:VEVENT
BEGIN:VEVENT
DTSTART;TZID=America/Chicago:20251220T160000
DTEND;TZID=America/Chicago:20251220T200000
DTSTAMP:20260421T095530
CREATED:20251109T225735Z
LAST-MODIFIED:20251109T225817Z
UID:9559-1766246400-1766260800@gracechapelpickwick.com
SUMMARY:Community Meal and Candlelight Service @ Freddy T's Restaurant
DESCRIPTION:Grace Chapel and Freddy T’s Restaurant invite you and your family to join us for an evening of Christmas celebration. \nThere will be a complimentary Christmas meal (4pm)\, photos with Santa (5pm)\, and a candlelight service (7pm). \nEveryone is invited!
URL:http://gracechapelpickwick.com/event/community-meal-and-candlelight-service-freddy-ts-restaurant
LOCATION:Freddy T’s\, 12750 Hwy 57\, Counce\, TN\, 38326\, United States
CATEGORIES:Bible Study,Community,Mission,Worship
END:VEVENT
BEGIN:VEVENT
DTSTART;TZID=America/Chicago:20260104T100000
DTEND;TZID=America/Chicago:20260104T110000
DTSTAMP:20260421T095530
CREATED:20260104T043817Z
LAST-MODIFIED:20260104T043817Z
UID:9694-1767520800-1767524400@gracechapelpickwick.com
SUMMARY:Sunday Worship & the Word
DESCRIPTION:
URL:http://gracechapelpickwick.com/event/sunday-worship-the-word-207
LOCATION:Freddy T’s\, 12750 Hwy 57\, Counce\, TN\, 38326\, United States
CATEGORIES:Community,Worship
ATTACH;FMTTYPE=image/png:http://gracechapelpickwick.com/wp-content/uploads/2025/12/sunday-worship-gc-1.png
END:VEVENT
BEGIN:VEVENT
DTSTART;TZID=America/Chicago:20260111T100000
DTEND;TZID=America/Chicago:20260111T110000
DTSTAMP:20260421T095530
CREATED:20260104T043851Z
LAST-MODIFIED:20260104T043851Z
UID:9696-1768125600-1768129200@gracechapelpickwick.com
SUMMARY:Sunday Worship & the Word
DESCRIPTION:
URL:http://gracechapelpickwick.com/event/sunday-worship-the-word-208
LOCATION:Freddy T’s\, 12750 Hwy 57\, Counce\, TN\, 38326\, United States
CATEGORIES:Community,Worship
ATTACH;FMTTYPE=image/png:http://gracechapelpickwick.com/wp-content/uploads/2025/12/sunday-worship-gc-1.png
END:VEVENT
BEGIN:VEVENT
DTSTART;TZID=America/Chicago:20260118T100000
DTEND;TZID=America/Chicago:20260118T110000
DTSTAMP:20260421T095530
CREATED:20260104T043927Z
LAST-MODIFIED:20260104T043927Z
UID:9698-1768730400-1768734000@gracechapelpickwick.com
SUMMARY:Sunday Worship & the Word
DESCRIPTION:
URL:http://gracechapelpickwick.com/event/sunday-worship-the-word-209
CATEGORIES:Community,Worship
ATTACH;FMTTYPE=image/png:http://gracechapelpickwick.com/wp-content/uploads/2025/12/sunday-worship-gc-1.png
END:VEVENT
BEGIN:VEVENT
DTSTART;TZID=America/Chicago:20260125T100000
DTEND;TZID=America/Chicago:20260125T110000
DTSTAMP:20260421T095530
CREATED:20260104T043956Z
LAST-MODIFIED:20260104T043956Z
UID:9700-1769335200-1769338800@gracechapelpickwick.com
SUMMARY:Sunday Worship & the Word
DESCRIPTION:
URL:http://gracechapelpickwick.com/event/sunday-worship-the-word-210
CATEGORIES:Community,Worship
ATTACH;FMTTYPE=image/png:http://gracechapelpickwick.com/wp-content/uploads/2025/12/sunday-worship-gc-1.png
END:VEVENT
END:VCALENDAR