BEGIN:VCALENDAR
VERSION:2.0
PRODID:-//Grace Chapel Pickwick - ECPv5.16.4//NONSGML v1.0//EN
CALSCALE:GREGORIAN
METHOD:PUBLISH
X-WR-CALNAME:Grace Chapel Pickwick
X-ORIGINAL-URL:http://gracechapelpickwick.com
X-WR-CALDESC:Events for Grace Chapel Pickwick
REFRESH-INTERVAL;VALUE=DURATION:PT1H
X-Robots-Tag:noindex
X-PUBLISHED-TTL:PT1H
BEGIN:VTIMEZONE
TZID:America/Chicago
BEGIN:DAYLIGHT
TZOFFSETFROM:-0600
TZOFFSETTO:-0500
TZNAME:CDT
DTSTART:20190310T080000
END:DAYLIGHT
BEGIN:STANDARD
TZOFFSETFROM:-0500
TZOFFSETTO:-0600
TZNAME:CST
DTSTART:20191103T070000
END:STANDARD
BEGIN:DAYLIGHT
TZOFFSETFROM:-0600
TZOFFSETTO:-0500
TZNAME:CDT
DTSTART:20200308T080000
END:DAYLIGHT
BEGIN:STANDARD
TZOFFSETFROM:-0500
TZOFFSETTO:-0600
TZNAME:CST
DTSTART:20201101T070000
END:STANDARD
BEGIN:DAYLIGHT
TZOFFSETFROM:-0600
TZOFFSETTO:-0500
TZNAME:CDT
DTSTART:20210314T080000
END:DAYLIGHT
BEGIN:STANDARD
TZOFFSETFROM:-0500
TZOFFSETTO:-0600
TZNAME:CST
DTSTART:20211107T070000
END:STANDARD
BEGIN:DAYLIGHT
TZOFFSETFROM:-0600
TZOFFSETTO:-0500
TZNAME:CDT
DTSTART:20220313T080000
END:DAYLIGHT
BEGIN:STANDARD
TZOFFSETFROM:-0500
TZOFFSETTO:-0600
TZNAME:CST
DTSTART:20221106T070000
END:STANDARD
END:VTIMEZONE
BEGIN:VEVENT
DTSTART;TZID=America/Chicago:20220312T080000
DTEND;TZID=America/Chicago:20220312T170000
DTSTAMP:20260419T070950
CREATED:20220310T143225Z
LAST-MODIFIED:20220310T143445Z
UID:4510-1647072000-1647104400@gracechapelpickwick.com
SUMMARY:Sharing God's Grace
DESCRIPTION:If you would like to join this local mission team please see Tim or Kristy Barnes.
URL:http://gracechapelpickwick.com/event/sharing-gods-grace-11
LOCATION:Barnes Marine\, 10080 Hwy 57\, Counce\, TN\, 38326\, United States
CATEGORIES:Community,Mission
ATTACH;FMTTYPE=image/gif:http://gracechapelpickwick.com/wp-content/uploads/2022/03/bible-Study-templates.gif
END:VEVENT
BEGIN:VEVENT
DTSTART;TZID=America/Chicago:20220212T080000
DTEND;TZID=America/Chicago:20220212T170000
DTSTAMP:20260419T070950
CREATED:20220206T045729Z
LAST-MODIFIED:20220206T050407Z
UID:4446-1644652800-1644685200@gracechapelpickwick.com
SUMMARY:Sharing Gods Grace
DESCRIPTION:If you would like to help with this ministry please see Tim or Kristy Barnes.
URL:http://gracechapelpickwick.com/event/sharing-gods-grace-10
LOCATION:Barnes Marine\, 10080 Hwy 57\, Counce\, TN\, 38326\, United States
CATEGORIES:Mission
END:VEVENT
BEGIN:VEVENT
DTSTART;TZID=America/Chicago:20211211T080000
DTEND;TZID=America/Chicago:20211211T170000
DTSTAMP:20260419T070950
CREATED:20211129T231606Z
LAST-MODIFIED:20211202T165238Z
UID:4223-1639209600-1639242000@gracechapelpickwick.com
SUMMARY:Sharing God's Grace
DESCRIPTION:Leaders: Tim & Kristy Barnes \nIf you are interested in being a part of this local mission work please see Tim or Kristy.
URL:http://gracechapelpickwick.com/event/sharing-gods-grace-8
LOCATION:TN
CATEGORIES:Community,Mission
END:VEVENT
BEGIN:VEVENT
DTSTART;TZID=America/Chicago:20211016T080000
DTEND;TZID=America/Chicago:20211016T170000
DTSTAMP:20260419T070950
CREATED:20210928T004133Z
LAST-MODIFIED:20210928T004133Z
UID:3985-1634371200-1634403600@gracechapelpickwick.com
SUMMARY:Sharing God's Grace
DESCRIPTION:Join us in giving back to the community. If you are interested in helping with this effort please contact Tim or Kristy Barnes.
URL:http://gracechapelpickwick.com/event/sharing-gods-grace-6
LOCATION:TN
CATEGORIES:Mission
END:VEVENT
BEGIN:VEVENT
DTSTART;TZID=America/Chicago:20210918T080000
DTEND;TZID=America/Chicago:20210918T170000
DTSTAMP:20260419T070950
CREATED:20210908T170014Z
LAST-MODIFIED:20210908T170014Z
UID:3910-1631952000-1631984400@gracechapelpickwick.com
SUMMARY:Sharing Gods Grace
DESCRIPTION:Leaders: Tim & Kristy Barnes
URL:http://gracechapelpickwick.com/event/sharing-gods-grace-5
LOCATION:TN
CATEGORIES:Community,Mission
ATTACH;FMTTYPE=image/png:http://gracechapelpickwick.com/wp-content/uploads/2021/09/sharing-gods-grace.png
END:VEVENT
BEGIN:VEVENT
DTSTART;TZID=America/Chicago:20210918T080000
DTEND;TZID=America/Chicago:20210918T170000
DTSTAMP:20260419T070950
CREATED:20210823T155218Z
LAST-MODIFIED:20210823T155218Z
UID:3863-1631952000-1631984400@gracechapelpickwick.com
SUMMARY:Sharing God's Grace
DESCRIPTION:For more information or if you would like to help with this local mission effort please see Tim or Kristy Barnes
URL:http://gracechapelpickwick.com/event/sharing-gods-grace-4
LOCATION:TN
CATEGORIES:Mission
END:VEVENT
BEGIN:VEVENT
DTSTART;VALUE=DATE:20210821
DTEND;VALUE=DATE:20210822
DTSTAMP:20260419T070950
CREATED:20210731T053217Z
LAST-MODIFIED:20210731T053217Z
UID:3824-1629504000-1629590399@gracechapelpickwick.com
SUMMARY:Sharing God's Grace
DESCRIPTION:Please see Tim or Kristy Barnes if you are interested in becoming a part of this amazing ministry.
URL:http://gracechapelpickwick.com/event/sharing-gods-grace-3
LOCATION:Barnes Marine\, 10080 Hwy 57\, Counce\, TN\, 38326\, United States
CATEGORIES:Community,Mission
ATTACH;FMTTYPE=image/png:http://gracechapelpickwick.com/wp-content/uploads/2021/07/sharing-gods-grace-1.png
END:VEVENT
BEGIN:VEVENT
DTSTART;TZID=America/Chicago:20210124T040000
DTEND;TZID=America/Chicago:20210124T050000
DTSTAMP:20260419T070950
CREATED:20210122T064318Z
LAST-MODIFIED:20210122T064318Z
UID:3266-1611460800-1611464400@gracechapelpickwick.com
SUMMARY:Sunday Worship & the Word at Freddy T's
DESCRIPTION:WE ARE BACK AT FREDDY T’S THIS SUNDAY!!! \n Grace Chapel is returning to where we started in 2017.  After a nomadic year of 2020\, Grace Chapel is restarting and seeking to continue to be faithful to God’s vision.  We will be “the church at a bar” welcoming all who seek God.  We will remain a church telling others\, “Come as you are.”  We will also be teaching ourselves\, “Become more than you are…by God’s grace.”  We will uphold our name\, Grace Chapel\, by the heart of our preaching based our theme verse\, “By grace are you saved through faith…”  (Ephesians 2:8)  We will continue to have vibrant worship (thank God for David Duncan and the GC Praise Band).  We will persist in Bible / gospel preaching and teaching (Don and Doc).  We will maintain our goal of giving away half of our offerings to the local needy\, area ministries and world missions.  \nAnd we will see the Lord revive us again. \nBe a part of this restart this week. \nBUT WE KNOW COVID IS STILL AN ISSUE.  So special precautions are being taken:  the area will be sanitized\, the chairs will be socially distanced\, mask wearing is required\, temperatures will be taken\, and youth and children meet separately starting at 10:00.  We understand if you still need to take the precaution of not personally attending worship right now.  We encourage you to worship with us on FB and we look forward to the day we will all be back together again. \nTHIS WEEK…Jeff Hollis will lead in sharing what the Lord did in our youth during the youth conference in Gatlinburg between Christmas and the New Year.  You will want to witness this encouraging report
URL:http://gracechapelpickwick.com/event/sunday-worship-the-word-at-freddy-ts
LOCATION:Freddy T’s\, 12750 Hwy 57\, Counce\, TN\, 38326\, United States
CATEGORIES:Bible Study,Mission,Worship,Youth
ATTACH;FMTTYPE=image/png:http://gracechapelpickwick.com/wp-content/uploads/2021/01/Grace-Chape-fb-cover-6.png
ORGANIZER;CN="Don%20Elliott":MAILTO:donelliott@bellsouth.net
END:VEVENT
BEGIN:VEVENT
DTSTART;TZID=America/Chicago:20200926T060000
DTEND;TZID=America/Chicago:20200926T070000
DTSTAMP:20260419T070950
CREATED:20200908T185826Z
LAST-MODIFIED:20200908T185844Z
UID:2869-1601100000-1601103600@gracechapelpickwick.com
SUMMARY:Pickwick Community Prayer March 2020
DESCRIPTION:Pickwick Community Prayer March 2020. \nWe will meet at the old Fred’s building and have the whole side lot to walk and pray. It’s a time to specifically and strategically pray for our nation and leaders\, for families to be strengthened\, for unity and identity in the Church\, and more. (Franklin Graham is hosting the same thing \, same time in Washington\, DC)\nEveryone is welcome. Please invite anyone who can join to pray Sept 26\, and we believe that God will answer.
URL:http://gracechapelpickwick.com/event/pickwick-community-prayer-march-2020
LOCATION:TN
CATEGORIES:Community,Mission
ATTACH;FMTTYPE=image/png:http://gracechapelpickwick.com/wp-content/uploads/2020/09/September-26-2020-1.png
END:VEVENT
BEGIN:VEVENT
DTSTART;TZID=America/Chicago:20200809T050000
DTEND;TZID=America/Chicago:20200809T060000
DTSTAMP:20260419T070950
CREATED:20200626T060253Z
LAST-MODIFIED:20200804T030957Z
UID:2658-1596949200-1596952800@gracechapelpickwick.com
SUMMARY:Worship and the Word - David & Laura Nelson Visit
DESCRIPTION:David and Laura Nelson will visit and share with us during the service today. \nPastor Don Elliott \nWorship Leader David Duncan \nWe are meeting in the old Fred’s building at 10:00am in Pickwick. \nSocial distancing is encouraged and hand sanitizing stations are set up. \nThe service will still be streamed on Facebook LIVE every Sunday.
URL:http://gracechapelpickwick.com/event/worship-and-the-word-david-laura-nelson-visit
LOCATION:Old Fred’s Building Pickwick\, 9810 Hwy 57\, Counce\, TN\, 38326
CATEGORIES:Bible Study,Community,Mission,Worship
ATTACH;FMTTYPE=image/png:http://gracechapelpickwick.com/wp-content/uploads/2020/06/nelson-visit.png
ORGANIZER;CN="Don%20Elliott":MAILTO:donelliott@bellsouth.net
END:VEVENT
BEGIN:VEVENT
DTSTART;VALUE=DATE:20200306
DTEND;VALUE=DATE:20200315
DTSTAMP:20260419T070950
CREATED:20191116T080950Z
LAST-MODIFIED:20200305T030008Z
UID:1726-1583517600-1584212399@gracechapelpickwick.com
SUMMARY:Mission Trip to Puerto Angel
DESCRIPTION:The next Mission Trip to Mexico will be March 7 – 14\, 2020.  It will be a mission with the church in Puerto Angel doing a medical clinic\, children’s ministry\, prayer and construction. \n\n\n\n\n\n\n\n\n\n\n\n\n\nMISSION TEAM MEMBERS – Mexico\, 2020\n1.      Don Elliott\n2.      Leonard Pratt\n3.      Brady Pratt\n4.      Lauren Dunlow\n5.      Margaret Rushing\n6.      Tim Bradley\n7.       Kelly Edge\n8.       Kim Edge\n9.       K.B. Edge\n10.     Barbara Keller\n11.     Cathy Lane\n12.     Jonathon Galbreath\n13.     Cade Plunk\n14.     Tim Barnes\n15.     Kristy Barnes\n16.     MaKaden Barnes\n17.     Erika Talley\n18.     Sonia Berry\n19.     Shana Bennett\n20.     Rebecca Timms\n\n\n\n\n\n\n\n\n\n\n\n\n\n\n\n\n\n\n\n\n\n\n\n\n\n\n\n\n\n\n\n\n\n\n\n  \n  \n 
URL:http://gracechapelpickwick.com/event/mission-trip-to-puerto-angel
LOCATION:TN
CATEGORIES:Mission
ATTACH;FMTTYPE=image/png:http://gracechapelpickwick.com/wp-content/uploads/2019/11/Mission-Trip-March-slide.png
ORGANIZER;CN="Don%20Elliott":MAILTO:donelliott@bellsouth.net
END:VEVENT
BEGIN:VEVENT
DTSTART;TZID=America/Chicago:20191208T040000
DTEND;TZID=America/Chicago:20191208T050000
DTSTAMP:20260419T070950
CREATED:20191126T050434Z
LAST-MODIFIED:20191126T052512Z
UID:1750-1575777600-1575781200@gracechapelpickwick.com
SUMMARY:Worship and the Word
DESCRIPTION:Join us every Sunday morning for worship and the Word \nPastor Don Elliott \nWorship Leader David Duncan \nDecember 8th\, 2019\, Rita Maxedon will be joining us during the worship service to discuss the “Angel Tree” program that she spearheads. \nGrace Chapel has participated in this every year. We are so thankful to have such loving\, caring people in our GC family that adopt Angel families to help provide Christmas. \nPlease be in prayer about whether you might like to participate this year. Being able to help a family in need during the holiday season is truly an amazing experience for both them and yourself. \nIf you have not had the opportunity to do this in the past\, I can promise you that you will be blessed if you choose to help. Giving in this way is truly the real reason for the season. \n 
URL:http://gracechapelpickwick.com/event/worship-and-the-word-2
LOCATION:Freddy T’s\, 12750 Hwy 57\, Counce\, TN\, 38326\, United States
CATEGORIES:Mission,Worship
ORGANIZER;CN="Don%20Elliott":MAILTO:donelliott@bellsouth.net
END:VEVENT
BEGIN:VEVENT
DTSTART;TZID=America/Chicago:20191201T053000
DTEND;TZID=America/Chicago:20191201T053000
DTSTAMP:20260419T070950
CREATED:20191116T082840Z
LAST-MODIFIED:20191116T083227Z
UID:1730-1575178200-1575178200@gracechapelpickwick.com
SUMMARY:Mission Trip Meeting
DESCRIPTION:There will be a meeting after church on December 1st for all interested in going on the mission trip to Puerto Angel March 7-14\, 2020. \nThe next Mission Trip to Mexico will be March 7 – 14\, 2020.  \nIt will be a mission with the church in Puerto Angel \ndoing a medical clinic\, children’s ministry\, \nprayer and construction.   \nMission team members will be expected to pay for \ntheir own plane tickets\, and Grace Chapel will take care \nof all of the expenses.  \nBe in prayer about the Lord’s call for you to go. \n 
URL:http://gracechapelpickwick.com/event/mission-trip-meeting
LOCATION:Freddy T’s\, 12750 Hwy 57\, Counce\, TN\, 38326\, United States
CATEGORIES:Mission
ATTACH;FMTTYPE=image/png:http://gracechapelpickwick.com/wp-content/uploads/2019/11/effective-ministry-mission-to-puerto-an-2.png
ORGANIZER;CN="Don%20Elliott":MAILTO:donelliott@bellsouth.net
END:VEVENT
END:VCALENDAR