BEGIN:VCALENDAR
VERSION:2.0
PRODID:-//Grace Chapel Pickwick - ECPv5.16.4//NONSGML v1.0//EN
CALSCALE:GREGORIAN
METHOD:PUBLISH
X-WR-CALNAME:Grace Chapel Pickwick
X-ORIGINAL-URL:http://gracechapelpickwick.com
X-WR-CALDESC:Events for Grace Chapel Pickwick
REFRESH-INTERVAL;VALUE=DURATION:PT1H
X-Robots-Tag:noindex
X-PUBLISHED-TTL:PT1H
BEGIN:VTIMEZONE
TZID:America/Chicago
BEGIN:DAYLIGHT
TZOFFSETFROM:-0600
TZOFFSETTO:-0500
TZNAME:CDT
DTSTART:20240310T080000
END:DAYLIGHT
BEGIN:STANDARD
TZOFFSETFROM:-0500
TZOFFSETTO:-0600
TZNAME:CST
DTSTART:20241103T070000
END:STANDARD
END:VTIMEZONE
BEGIN:VEVENT
DTSTART;TZID=America/Chicago:20240630T100000
DTEND;TZID=America/Chicago:20240630T110000
DTSTAMP:20260424T053611
CREATED:20240524T062347Z
LAST-MODIFIED:20240524T062347Z
UID:7546-1719741600-1719745200@gracechapelpickwick.com
SUMMARY:Sunday Worship & the Word
DESCRIPTION:Pastor Dr. Leonard Pratt will bring the Word \nWorship led by David Duncan \n10 am @ Freddy T’s
URL:http://gracechapelpickwick.com/event/sunday-worship-the-word-155
LOCATION:Freddy T’s\, 12750 Hwy 57\, Counce\, TN\, 38326\, United States
CATEGORIES:Bible Study,Worship
END:VEVENT
BEGIN:VEVENT
DTSTART;TZID=America/Chicago:20240630T083000
DTEND;TZID=America/Chicago:20240630T093000
DTSTAMP:20260424T053611
CREATED:20240524T063613Z
LAST-MODIFIED:20240524T063613Z
UID:7566-1719736200-1719739800@gracechapelpickwick.com
SUMMARY:Adult Sunday School
DESCRIPTION:Leaders: Billy and Verna Harbin \n8:30 am @ Freddy T’s on the deck
URL:http://gracechapelpickwick.com/event/adult-sunday-school-5
LOCATION:Freddy T’s\, 12750 Hwy 57\, Counce\, TN\, 38326\, United States
CATEGORIES:Bible Study
END:VEVENT
BEGIN:VEVENT
DTSTART;TZID=America/Chicago:20240627T180000
DTEND;TZID=America/Chicago:20240627T180000
DTSTAMP:20260424T053611
CREATED:20240524T061542Z
LAST-MODIFIED:20240524T061542Z
UID:7528-1719511200-1719511200@gracechapelpickwick.com
SUMMARY:Discipleship Bible Study
DESCRIPTION:Leader: Jim Bevis \n6:00 pm @ Freddy T’s Restaurant
URL:http://gracechapelpickwick.com/event/discipleship-bible-study-62
LOCATION:Freddy T’s\, 12750 Hwy 57\, Counce\, TN\, 38326\, United States
CATEGORIES:Bible Study
END:VEVENT
BEGIN:VEVENT
DTSTART;TZID=America/Chicago:20240627T100000
DTEND;TZID=America/Chicago:20240627T110000
DTSTAMP:20260424T053611
CREATED:20240524T063121Z
LAST-MODIFIED:20240524T063121Z
UID:7556-1719482400-1719486000@gracechapelpickwick.com
SUMMARY:Women's Bible Study @ Pray Pottery
DESCRIPTION:Leader: Kim Edge \n10:00 am every Thursday @ Pray Pottery\, Iuka\, MS
URL:http://gracechapelpickwick.com/event/womens-bible-study-pray-pottery-28
CATEGORIES:Bible Study
ATTACH;FMTTYPE=image/png:http://gracechapelpickwick.com/wp-content/uploads/2024/05/womens-bible-study.png
END:VEVENT
BEGIN:VEVENT
DTSTART;TZID=America/Chicago:20240626T190000
DTEND;TZID=America/Chicago:20240626T190000
DTSTAMP:20260424T053611
CREATED:20240524T061813Z
LAST-MODIFIED:20240620T193846Z
UID:7536-1719428400-1719428400@gracechapelpickwick.com
SUMMARY:Wednesday Worship and the Word
DESCRIPTION:Pastor Dave Boroughs founder of Sheltering Tree Ranch in Savannah\, TN will be giving us a Word and sharing about the Sheltering Tree Ministry. \nSheltering Tree Ranch is a public 501(c)(3) education\, scientific\, and religious organization dedicated to providing a supportive environment for children and adults with unique challenges through our autism & learning challenge education center. \nEstablished in Savannah\, TN in 2007\, we provide intensive and individualized instruction programs focusing on whole-child and adult development. We are also able to provide engaging outdoor activities and host awareness raising events on the ranch grounds with the help of our local community. Our goal is to help each person achieve their God-given potential with a strong support network of families\, staff\, and the greater community. \n 
URL:http://gracechapelpickwick.com/event/wednesday-worship-and-the-word-10
LOCATION:Freddy T’s\, 12750 Hwy 57\, Counce\, TN\, 38326\, United States
CATEGORIES:Bible Study,Community,Mission,Worship
END:VEVENT
BEGIN:VEVENT
DTSTART;TZID=America/Chicago:20240625T180000
DTEND;TZID=America/Chicago:20240625T180000
DTSTAMP:20260424T053611
CREATED:20240524T060931Z
LAST-MODIFIED:20240524T060931Z
UID:7516-1719338400-1719338400@gracechapelpickwick.com
SUMMARY:Young Married Couples Zoom Bible Study
DESCRIPTION:Leaders: Jabari and Kara Temple \nZOOM
URL:http://gracechapelpickwick.com/event/young-married-couples-zoom-bible-study-4
CATEGORIES:Bible Study
END:VEVENT
BEGIN:VEVENT
DTSTART;TZID=America/Chicago:20240623T100000
DTEND;TZID=America/Chicago:20240623T110000
DTSTAMP:20260424T053611
CREATED:20240524T062250Z
LAST-MODIFIED:20240524T062250Z
UID:7544-1719136800-1719140400@gracechapelpickwick.com
SUMMARY:Sunday Worship & the Word
DESCRIPTION:Interim Pastor Bobby Capps will bring the Word \nWorship led by David Duncan \n10 am @ Freddy T’s Restaurant
URL:http://gracechapelpickwick.com/event/sunday-worship-the-word-154
LOCATION:Freddy T’s\, 12750 Hwy 57\, Counce\, TN\, 38326\, United States
CATEGORIES:Bible Study,Worship
END:VEVENT
BEGIN:VEVENT
DTSTART;TZID=America/Chicago:20240623T083000
DTEND;TZID=America/Chicago:20240623T093000
DTSTAMP:20260424T053611
CREATED:20240524T063529Z
LAST-MODIFIED:20240524T063529Z
UID:7564-1719131400-1719135000@gracechapelpickwick.com
SUMMARY:Adult Sunday School
DESCRIPTION:Leaders: Billy and Verna Harbin \n8:30 am @ Freddy T’s on the deck
URL:http://gracechapelpickwick.com/event/adult-sunday-school-4
LOCATION:Freddy T’s\, 12750 Hwy 57\, Counce\, TN\, 38326\, United States
CATEGORIES:Bible Study
END:VEVENT
BEGIN:VEVENT
DTSTART;TZID=America/Chicago:20240620T100000
DTEND;TZID=America/Chicago:20240620T110000
DTSTAMP:20260424T053611
CREATED:20240524T063041Z
LAST-MODIFIED:20240524T063041Z
UID:7554-1718877600-1718881200@gracechapelpickwick.com
SUMMARY:Women's Bible Study @ Pray Pottery
DESCRIPTION:Leader: Kim Edge \n10:00 am every Thursday @ Pray Pottery\, Iuka\, MS
URL:http://gracechapelpickwick.com/event/womens-bible-study-pray-pottery-27
CATEGORIES:Bible Study
ATTACH;FMTTYPE=image/png:http://gracechapelpickwick.com/wp-content/uploads/2024/05/womens-bible-study.png
END:VEVENT
BEGIN:VEVENT
DTSTART;TZID=America/Chicago:20240619T190000
DTEND;TZID=America/Chicago:20240619T190000
DTSTAMP:20260424T053611
CREATED:20240524T061738Z
LAST-MODIFIED:20240614T193329Z
UID:7534-1718823600-1718823600@gracechapelpickwick.com
SUMMARY:Wednesday Worship and the Word
DESCRIPTION:Pastor Robbie Crane will be bringing the Word this Wednesday \n26 YEARS OF MINISTRY \n* Youth & Assoc Pastor in AL & NC \n6 years \n* Senior Pastor\, Tishomingo Baptist Church 13 years \n* Mission Strategist\, Tish. Co. Baptist Assoc. 5 years \n* Missionary Senegal Africa 2 years
URL:http://gracechapelpickwick.com/event/wednesday-worship-and-the-word-9
LOCATION:Freddy T’s\, 12750 Hwy 57\, Counce\, TN\, 38326\, United States
CATEGORIES:Bible Study,Community,Corporate Prayer,Mission,Worship
END:VEVENT
BEGIN:VEVENT
DTSTART;TZID=America/Chicago:20240619T173000
DTEND;TZID=America/Chicago:20240619T173000
DTSTAMP:20260424T053611
CREATED:20240524T061341Z
LAST-MODIFIED:20240524T061341Z
UID:7524-1718818200-1718818200@gracechapelpickwick.com
SUMMARY:Men's Bible Study
DESCRIPTION:Leader: Roger Niswander \n5:30 pm \non the deck at Freddy T’s Restaurant
URL:http://gracechapelpickwick.com/event/mens-bible-study-109
LOCATION:Freddy T’s\, 12750 Hwy 57\, Counce\, TN\, 38326\, United States
CATEGORIES:Bible Study
END:VEVENT
BEGIN:VEVENT
DTSTART;TZID=America/Chicago:20240619T100000
DTEND;TZID=America/Chicago:20240619T110000
DTSTAMP:20260424T053611
CREATED:20240524T061144Z
LAST-MODIFIED:20240524T061144Z
UID:7520-1718791200-1718794800@gracechapelpickwick.com
SUMMARY:Pastry and the Word
DESCRIPTION:Leader: Suzanne Niswander \n10:00 am \nPickwick Pines Resort Rec Center
URL:http://gracechapelpickwick.com/event/pastry-and-the-word-12
LOCATION:Pickwick Pines Resort\, Iuka\, MS\, 38852\, United States
CATEGORIES:Bible Study
END:VEVENT
BEGIN:VEVENT
DTSTART;TZID=America/Chicago:20240618T180000
DTEND;TZID=America/Chicago:20240618T180000
DTSTAMP:20260424T053611
CREATED:20240524T060842Z
LAST-MODIFIED:20240524T060842Z
UID:7514-1718733600-1718733600@gracechapelpickwick.com
SUMMARY:Young Married Couples Zoom Bible Study
DESCRIPTION:Leaders: Jabari and Kara Temple \nZOOM
URL:http://gracechapelpickwick.com/event/young-married-couples-zoom-bible-study-3
CATEGORIES:Bible Study
END:VEVENT
BEGIN:VEVENT
DTSTART;TZID=America/Chicago:20240617T183000
DTEND;TZID=America/Chicago:20240617T183000
DTSTAMP:20260424T053611
CREATED:20240524T060453Z
LAST-MODIFIED:20240524T060453Z
UID:7506-1718649000-1718649000@gracechapelpickwick.com
SUMMARY:Monday Bible Study
DESCRIPTION:Leaders: Brian and Donna Langle \n605 Foote Street\, Corinth\, MS \n6:30 pm
URL:http://gracechapelpickwick.com/event/monday-bible-study-6
CATEGORIES:Bible Study
END:VEVENT
BEGIN:VEVENT
DTSTART;TZID=America/Chicago:20240616T190000
DTEND;TZID=America/Chicago:20240616T190000
DTSTAMP:20260424T053611
CREATED:20240524T060253Z
LAST-MODIFIED:20240524T060253Z
UID:7502-1718564400-1718564400@gracechapelpickwick.com
SUMMARY:Sunday Bible Study
DESCRIPTION:Leaders: Jeff and Deedra Hollis \nNuevo Vallarta Pickwick \n7:00 pm
URL:http://gracechapelpickwick.com/event/sunday-bible-study-68
LOCATION:Nuevo Vallarta\, 10240 Hwy 57\, Counce\, TN\, 38326\, United States
CATEGORIES:Bible Study
END:VEVENT
BEGIN:VEVENT
DTSTART;TZID=America/Chicago:20240616T100000
DTEND;TZID=America/Chicago:20240616T110000
DTSTAMP:20260424T053611
CREATED:20240524T062140Z
LAST-MODIFIED:20240614T174233Z
UID:7542-1718532000-1718535600@gracechapelpickwick.com
SUMMARY:Sunday Worship & the Word
DESCRIPTION:Pastor Dr. Leonard Pratt will bring the Word \nWorship led by David Duncan \n10 am @ Freddy T’s \n  \nBaptisms will follow the service today at Pickwick Landing State Park Circle Beach.
URL:http://gracechapelpickwick.com/event/sunday-worship-the-word-153
LOCATION:Freddy T’s\, 12750 Hwy 57\, Counce\, TN\, 38326\, United States
CATEGORIES:Bible Study,Worship
END:VEVENT
BEGIN:VEVENT
DTSTART;TZID=America/Chicago:20240616T083000
DTEND;TZID=America/Chicago:20240616T093000
DTSTAMP:20260424T053611
CREATED:20240524T063446Z
LAST-MODIFIED:20240524T063446Z
UID:7562-1718526600-1718530200@gracechapelpickwick.com
SUMMARY:Adult Sunday School
DESCRIPTION:Leaders: Billy and Verna Harbin \n8:30 am @ Freddy T’s on the deck
URL:http://gracechapelpickwick.com/event/adult-sunday-school-3
LOCATION:Freddy T’s\, 12750 Hwy 57\, Counce\, TN\, 38326\, United States
CATEGORIES:Bible Study
END:VEVENT
BEGIN:VEVENT
DTSTART;TZID=America/Chicago:20240613T180000
DTEND;TZID=America/Chicago:20240613T180000
DTSTAMP:20260424T053611
CREATED:20240524T061446Z
LAST-MODIFIED:20240524T061446Z
UID:7526-1718301600-1718301600@gracechapelpickwick.com
SUMMARY:Discipleship Bible Study
DESCRIPTION:Leader: Jim Bevis \n6:00 pm @ Freddy T’s Restaurant
URL:http://gracechapelpickwick.com/event/discipleship-bible-study-61
LOCATION:Freddy T’s\, 12750 Hwy 57\, Counce\, TN\, 38326\, United States
CATEGORIES:Bible Study
END:VEVENT
BEGIN:VEVENT
DTSTART;TZID=America/Chicago:20240613T100000
DTEND;TZID=America/Chicago:20240613T110000
DTSTAMP:20260424T053611
CREATED:20240524T063009Z
LAST-MODIFIED:20240524T063009Z
UID:7552-1718272800-1718276400@gracechapelpickwick.com
SUMMARY:Women's Bible Study @ Pray Pottery
DESCRIPTION:Leader: Kim Edge \n10:00 am every Thursday @ Pray Pottery\, Iuka\, MS
URL:http://gracechapelpickwick.com/event/womens-bible-study-pray-pottery-26
CATEGORIES:Bible Study
ATTACH;FMTTYPE=image/png:http://gracechapelpickwick.com/wp-content/uploads/2024/05/womens-bible-study.png
END:VEVENT
BEGIN:VEVENT
DTSTART;TZID=America/Chicago:20240612T190000
DTEND;TZID=America/Chicago:20240612T190000
DTSTAMP:20260424T053611
CREATED:20240524T061659Z
LAST-MODIFIED:20240607T222208Z
UID:7532-1718218800-1718218800@gracechapelpickwick.com
SUMMARY:Wednesday Worship and the Word
DESCRIPTION:
URL:http://gracechapelpickwick.com/event/wednesday-worship-and-the-word-8
LOCATION:Freddy T’s\, 12750 Hwy 57\, Counce\, TN\, 38326\, United States
CATEGORIES:Bible Study
END:VEVENT
BEGIN:VEVENT
DTSTART;TZID=America/Chicago:20240611T180000
DTEND;TZID=America/Chicago:20240611T180000
DTSTAMP:20260424T053611
CREATED:20240524T060803Z
LAST-MODIFIED:20240524T060803Z
UID:7512-1718128800-1718128800@gracechapelpickwick.com
SUMMARY:Young Married Couples Zoom Bible Study
DESCRIPTION:Leaders: Jabari and Kara Temple \nZOOM
URL:http://gracechapelpickwick.com/event/young-married-couples-zoom-bible-study-2
CATEGORIES:Bible Study
END:VEVENT
BEGIN:VEVENT
DTSTART;TZID=America/Chicago:20240609T100000
DTEND;TZID=America/Chicago:20240609T110000
DTSTAMP:20260424T053611
CREATED:20240524T062033Z
LAST-MODIFIED:20240524T062033Z
UID:7540-1717927200-1717930800@gracechapelpickwick.com
SUMMARY:Sunday Worship & the Word
DESCRIPTION:Interim Pastor Bobby Capps will bring the Word \n10:00 am \n@ Freddy T’s Restaurant
URL:http://gracechapelpickwick.com/event/sunday-worship-the-word-152
LOCATION:Freddy T’s\, 12750 Hwy 57\, Counce\, TN\, 38326\, United States
CATEGORIES:Bible Study
END:VEVENT
BEGIN:VEVENT
DTSTART;TZID=America/Chicago:20240609T083000
DTEND;TZID=America/Chicago:20240609T093000
DTSTAMP:20260424T053611
CREATED:20240524T063409Z
LAST-MODIFIED:20240524T063409Z
UID:7560-1717921800-1717925400@gracechapelpickwick.com
SUMMARY:Adult Sunday School
DESCRIPTION:Leaders: Billy and Verna Harbin \n8:30 am @ Freddy T’s on the deck
URL:http://gracechapelpickwick.com/event/adult-sunday-school-2
CATEGORIES:Bible Study
END:VEVENT
BEGIN:VEVENT
DTSTART;TZID=America/Chicago:20240606T100000
DTEND;TZID=America/Chicago:20240606T110000
DTSTAMP:20260424T053611
CREATED:20240524T062921Z
LAST-MODIFIED:20240524T062921Z
UID:7549-1717668000-1717671600@gracechapelpickwick.com
SUMMARY:Women's Bible Study @ Pray Pottery
DESCRIPTION:Leader: Kim Edge \n10:00 am every Thursday @ Pray Pottery\, Iuka\, MS
URL:http://gracechapelpickwick.com/event/womens-bible-study-pray-pottery-25
CATEGORIES:Bible Study
ATTACH;FMTTYPE=image/png:http://gracechapelpickwick.com/wp-content/uploads/2024/05/womens-bible-study.png
END:VEVENT
BEGIN:VEVENT
DTSTART;TZID=America/Chicago:20240605T190000
DTEND;TZID=America/Chicago:20240605T190000
DTSTAMP:20260424T053611
CREATED:20240524T061623Z
LAST-MODIFIED:20240531T033256Z
UID:7530-1717614000-1717614000@gracechapelpickwick.com
SUMMARY:Wednesday Worship and the Word
DESCRIPTION:Brian Beasley will be bringing the Word. \nBeasley Family Ministries Corporation’s purpose is to evangelize and disciple the nations. We desire to capture the heart of God for people and use our time\, energy\, and resources to fulfill it.
URL:http://gracechapelpickwick.com/event/wednesday-worship-and-the-word-7
LOCATION:Freddy T’s\, 12750 Hwy 57\, Counce\, TN\, 38326\, United States
CATEGORIES:Bible Study
END:VEVENT
BEGIN:VEVENT
DTSTART;TZID=America/Chicago:20240605T173000
DTEND;TZID=America/Chicago:20240605T173000
DTSTAMP:20260424T053611
CREATED:20240524T061249Z
LAST-MODIFIED:20240524T061249Z
UID:7522-1717608600-1717608600@gracechapelpickwick.com
SUMMARY:Men's Bible Study
DESCRIPTION:Leader: Roger Niswander \n5:30 pm \non the deck at Freddy T’s Restaurant
URL:http://gracechapelpickwick.com/event/mens-bible-study-108
CATEGORIES:Bible Study
END:VEVENT
BEGIN:VEVENT
DTSTART;TZID=America/Chicago:20240605T100000
DTEND;TZID=America/Chicago:20240605T110000
DTSTAMP:20260424T053611
CREATED:20240524T061058Z
LAST-MODIFIED:20240524T061058Z
UID:7518-1717581600-1717585200@gracechapelpickwick.com
SUMMARY:Pastry and the Word
DESCRIPTION:Leader: Suzanne Niswander \n10:00 am \nPickwick Pines Resort Rec Center
URL:http://gracechapelpickwick.com/event/pastry-and-the-word-11
LOCATION:Pickwick Pines Resort\, Iuka\, MS\, 38852\, United States
CATEGORIES:Bible Study
END:VEVENT
BEGIN:VEVENT
DTSTART;TZID=America/Chicago:20240605T090000
DTEND;TZID=America/Chicago:20240605T110000
DTSTAMP:20260424T053611
CREATED:20240524T060600Z
LAST-MODIFIED:20240524T060600Z
UID:7508-1717578000-1717585200@gracechapelpickwick.com
SUMMARY:Prayer Breakfast @ the Outpost
DESCRIPTION:Leader: Ray Puckett \nthe Outpost Savannah \n9:00 am
URL:http://gracechapelpickwick.com/event/prayer-breakfast-the-outpost-8
CATEGORIES:Bible Study,Corporate Prayer
END:VEVENT
BEGIN:VEVENT
DTSTART;TZID=America/Chicago:20240604T180000
DTEND;TZID=America/Chicago:20240604T180000
DTSTAMP:20260424T053611
CREATED:20240524T060715Z
LAST-MODIFIED:20240524T060715Z
UID:7510-1717524000-1717524000@gracechapelpickwick.com
SUMMARY:Young Married Couples Zoom Bible Study
DESCRIPTION:Leaders: Jabari and Kara Temple \nZOOM
URL:http://gracechapelpickwick.com/event/young-married-couples-zoom-bible-study
CATEGORIES:Bible Study
END:VEVENT
BEGIN:VEVENT
DTSTART;TZID=America/Chicago:20240603T183000
DTEND;TZID=America/Chicago:20240603T183000
DTSTAMP:20260424T053611
CREATED:20240524T060416Z
LAST-MODIFIED:20240524T060416Z
UID:7504-1717439400-1717439400@gracechapelpickwick.com
SUMMARY:Monday Bible Study
DESCRIPTION:Leaders: Brian and Donna Langle \n605 Foote Street\, Corinth\, MS \n6:30 pm
URL:http://gracechapelpickwick.com/event/monday-bible-study-5
CATEGORIES:Bible Study
END:VEVENT
END:VCALENDAR