BEGIN:VCALENDAR
VERSION:2.0
PRODID:-//Grace Chapel Pickwick - ECPv5.16.4//NONSGML v1.0//EN
CALSCALE:GREGORIAN
METHOD:PUBLISH
X-WR-CALNAME:Grace Chapel Pickwick
X-ORIGINAL-URL:http://gracechapelpickwick.com
X-WR-CALDESC:Events for Grace Chapel Pickwick
REFRESH-INTERVAL;VALUE=DURATION:PT1H
X-Robots-Tag:noindex
X-PUBLISHED-TTL:PT1H
BEGIN:VTIMEZONE
TZID:America/Chicago
BEGIN:DAYLIGHT
TZOFFSETFROM:-0600
TZOFFSETTO:-0500
TZNAME:CDT
DTSTART:20260308T080000
END:DAYLIGHT
BEGIN:STANDARD
TZOFFSETFROM:-0500
TZOFFSETTO:-0600
TZNAME:CST
DTSTART:20261101T070000
END:STANDARD
END:VTIMEZONE
BEGIN:VEVENT
DTSTART;TZID=America/Chicago:20260329T083000
DTEND;TZID=America/Chicago:20260329T093000
DTSTAMP:20260421T194720
CREATED:20260224T010034Z
LAST-MODIFIED:20260224T020113Z
UID:9804-1774773000-1774776600@gracechapelpickwick.com
SUMMARY:Adult Sunday School Class
DESCRIPTION:Join us for Adult Sunday School every Sunday at 8:30am — a time to grow deeper in God’s Word\, ask questions\, share insights\, and build meaningful friendships. \nThere’s something powerful about gathering together before worship to study\, pray\, and encourage one another. No matter where you are in your faith journey\, you’re welcome here. ❤️ \nCome early. Grow deeper. Walk stronger. \nWe can’t wait to see you Sunday morning! 🙌✨
URL:http://gracechapelpickwick.com/event/adult-sunday-school-class-32
LOCATION:Freddy T’s\, 12750 Hwy 57\, Counce\, TN\, 38326\, United States
ATTACH;FMTTYPE=image/png:http://gracechapelpickwick.com/wp-content/uploads/2025/01/sunday-school-adults.png
END:VEVENT
BEGIN:VEVENT
DTSTART;TZID=America/Chicago:20260329T100000
DTEND;TZID=America/Chicago:20260329T110000
DTSTAMP:20260421T194720
CREATED:20260224T004206Z
LAST-MODIFIED:20260224T004257Z
UID:9792-1774778400-1774782000@gracechapelpickwick.com
SUMMARY:Sunday Worship & the Word
DESCRIPTION:We’re walking week by week through the powerful New Testament book of James — written by James the Just — a practical guide to living out real faith every single day. \nThe Epistle of James challenges us to move beyond just hearing God’s Word and start living it. 🙌 \n✨ Faith that works👂 Be doers of the Word\, not hearers only💬 Taming the tongue⚖️ Showing no favoritism🙏 Power of prayer🔥 Persevering through trials❤️ Wisdom from above \nJames reminds us that authentic faith is visible — in how we speak\, how we serve\, how we love\, and how we endure. \nJoin us each Sunday as we grow together and put our faith into action! 💒📖 #FaithInAction #BookOfJames #SundaySermon
URL:http://gracechapelpickwick.com/event/sunday-worship-the-word-215
LOCATION:Freddy T’s\, 12750 Hwy 57\, Counce\, TN\, 38326\, United States
ATTACH;FMTTYPE=image/png:http://gracechapelpickwick.com/wp-content/uploads/2025/12/sunday-worship-gc-1.png
END:VEVENT
BEGIN:VEVENT
DTSTART;TZID=America/Chicago:20260405T100000
DTEND;TZID=America/Chicago:20260405T110000
DTSTAMP:20260421T194720
CREATED:20260224T004324Z
LAST-MODIFIED:20260224T004334Z
UID:9794-1775383200-1775386800@gracechapelpickwick.com
SUMMARY:Sunday Worship & the Word
DESCRIPTION:We’re walking week by week through the powerful New Testament book of James — written by James the Just — a practical guide to living out real faith every single day. \nThe Epistle of James challenges us to move beyond just hearing God’s Word and start living it. 🙌 \n✨ Faith that works👂 Be doers of the Word\, not hearers only💬 Taming the tongue⚖️ Showing no favoritism🙏 Power of prayer🔥 Persevering through trials❤️ Wisdom from above \nJames reminds us that authentic faith is visible — in how we speak\, how we serve\, how we love\, and how we endure. \nJoin us each Sunday as we grow together and put our faith into action! 💒📖 #FaithInAction #BookOfJames #SundaySermon
URL:http://gracechapelpickwick.com/event/sunday-worship-the-word-216
ATTACH;FMTTYPE=image/png:http://gracechapelpickwick.com/wp-content/uploads/2025/12/sunday-worship-gc-1.png
END:VEVENT
END:VCALENDAR